BEGIN:VCALENDAR
VERSION:2.0
PRODID:-//Azione Cattolica Ancona Osimo - ECPv6.15.10//NONSGML v1.0//EN
CALSCALE:GREGORIAN
METHOD:PUBLISH
X-ORIGINAL-URL:https://www.acanconaosimo.it
X-WR-CALDESC:Eventi per Azione Cattolica Ancona Osimo
REFRESH-INTERVAL;VALUE=DURATION:PT1H
X-Robots-Tag:noindex
X-PUBLISHED-TTL:PT1H
BEGIN:VTIMEZONE
TZID:Europe/Rome
BEGIN:DAYLIGHT
TZOFFSETFROM:+0100
TZOFFSETTO:+0200
TZNAME:CEST
DTSTART:20190331T010000
END:DAYLIGHT
BEGIN:STANDARD
TZOFFSETFROM:+0200
TZOFFSETTO:+0100
TZNAME:CET
DTSTART:20191027T010000
END:STANDARD
BEGIN:DAYLIGHT
TZOFFSETFROM:+0100
TZOFFSETTO:+0200
TZNAME:CEST
DTSTART:20200329T010000
END:DAYLIGHT
BEGIN:STANDARD
TZOFFSETFROM:+0200
TZOFFSETTO:+0100
TZNAME:CET
DTSTART:20201025T010000
END:STANDARD
BEGIN:DAYLIGHT
TZOFFSETFROM:+0100
TZOFFSETTO:+0200
TZNAME:CEST
DTSTART:20210328T010000
END:DAYLIGHT
BEGIN:STANDARD
TZOFFSETFROM:+0200
TZOFFSETTO:+0100
TZNAME:CET
DTSTART:20211031T010000
END:STANDARD
BEGIN:DAYLIGHT
TZOFFSETFROM:+0100
TZOFFSETTO:+0200
TZNAME:CEST
DTSTART:20220327T010000
END:DAYLIGHT
BEGIN:STANDARD
TZOFFSETFROM:+0200
TZOFFSETTO:+0100
TZNAME:CET
DTSTART:20221030T010000
END:STANDARD
BEGIN:DAYLIGHT
TZOFFSETFROM:+0100
TZOFFSETTO:+0200
TZNAME:CEST
DTSTART:20230326T010000
END:DAYLIGHT
BEGIN:STANDARD
TZOFFSETFROM:+0200
TZOFFSETTO:+0100
TZNAME:CET
DTSTART:20231029T010000
END:STANDARD
BEGIN:DAYLIGHT
TZOFFSETFROM:+0100
TZOFFSETTO:+0200
TZNAME:CEST
DTSTART:20240331T010000
END:DAYLIGHT
BEGIN:STANDARD
TZOFFSETFROM:+0200
TZOFFSETTO:+0100
TZNAME:CET
DTSTART:20241027T010000
END:STANDARD
BEGIN:DAYLIGHT
TZOFFSETFROM:+0100
TZOFFSETTO:+0200
TZNAME:CEST
DTSTART:20250330T010000
END:DAYLIGHT
BEGIN:STANDARD
TZOFFSETFROM:+0200
TZOFFSETTO:+0100
TZNAME:CET
DTSTART:20251026T010000
END:STANDARD
BEGIN:DAYLIGHT
TZOFFSETFROM:+0100
TZOFFSETTO:+0200
TZNAME:CEST
DTSTART:20260329T010000
END:DAYLIGHT
BEGIN:STANDARD
TZOFFSETFROM:+0200
TZOFFSETTO:+0100
TZNAME:CET
DTSTART:20261025T010000
END:STANDARD
END:VTIMEZONE
BEGIN:VEVENT
DTSTART;TZID=Europe/Rome:20251012T150000
DTEND;TZID=Europe/Rome:20251012T200000
DTSTAMP:20260423T175053
CREATED:20250927T135609Z
LAST-MODIFIED:20250927T140909Z
UID:7259-1760281200-1760299200@www.acanconaosimo.it
SUMMARY:GIUBILEO dei MOVIMENTI e delle ASSOCIAZIONI
DESCRIPTION:
URL:https://www.acanconaosimo.it/event/giubileo-dei-movimenti-e-delle-associazioni/
LOCATION:Ancona\, Italy
CATEGORIES:Eventi
END:VEVENT
BEGIN:VEVENT
DTSTART;VALUE=DATE:20250406
DTEND;VALUE=DATE:20250407
DTSTAMP:20260423T175053
CREATED:20250316T145050Z
LAST-MODIFIED:20250316T150716Z
UID:7240-1743897600-1743983999@www.acanconaosimo.it
SUMMARY:Giornata di spiritualità
DESCRIPTION:Vi invitiamo a segnalare la vostra presenza entro il 3 aprile scrivendoci un’email ad ACANCONAOSIMO@GMAIL.COM o compilando il seguente LINK https://forms.gle/5ovP5ELaXCsex2ad9 
URL:https://www.acanconaosimo.it/event/giornata-di-spiritualita/
LOCATION:Abbadia di Fiastra
CATEGORIES:Eventi,Eventi Unitari
END:VEVENT
BEGIN:VEVENT
DTSTART;TZID=Europe/Rome:20250209T180000
DTEND;TZID=Europe/Rome:20250209T193000
DTSTAMP:20260423T175053
CREATED:20250202T101906Z
LAST-MODIFIED:20250202T102709Z
UID:7233-1739124000-1739129400@www.acanconaosimo.it
SUMMARY:A TU PER TU CON...
DESCRIPTION:L’equipe giovani della Azione Cattolica Ancona-Osimo e la Pastorale Giovanile sono felici di presentare ed invitarvi ai nuovi appuntamenti di “A TU PER TU CON…”\n \nSaranno due incontri su 𝗮𝗳𝗳𝗲𝘁𝘁𝗶𝘃𝗶𝘁𝗮̀\, 𝗰𝗼𝗿𝗽𝗼𝗿𝗲𝗶𝘁𝗮̀ 𝗲 𝗿𝗲𝗹𝗮𝘇𝗶𝗼𝗻𝗶\, dedicati a ragazzi e ragazze dal 1º al 4º superiore.\nIl primo appuntamento:\n⏩ 9 FEBBRAIO: “𝘓𝘦𝘨𝘢𝘮𝘪” con lo psicologo Lorenzo Lampacrescia \n\n➡️ Vi invitiamo a registrarvi al seguente LINK entro il 6/2.
URL:https://www.acanconaosimo.it/event/7233/
CATEGORIES:Eventi,Eventi Giovanissimi
END:VEVENT
BEGIN:VEVENT
DTSTART;TZID=Europe/Rome:20250131T193000
DTEND;TZID=Europe/Rome:20250131T223000
DTSTAMP:20260423T175053
CREATED:20250123T143200Z
LAST-MODIFIED:20250123T143200Z
UID:7222-1738351800-1738362600@www.acanconaosimo.it
SUMMARY:LABORATORI DI SOCIO-POLITICA
DESCRIPTION:
URL:https://www.acanconaosimo.it/event/laboratori-di-socio-politica/
CATEGORIES:Eventi
END:VEVENT
BEGIN:VEVENT
DTSTART;TZID=Europe/Rome:20250125T161500
DTEND;TZID=Europe/Rome:20250125T193000
DTSTAMP:20260423T175053
CREATED:20250123T142056Z
LAST-MODIFIED:20250123T142056Z
UID:7217-1737821700-1737833400@www.acanconaosimo.it
SUMMARY:CIAK\, AZIONE ... DI PACE!
DESCRIPTION:
URL:https://www.acanconaosimo.it/event/ciak-azione-di-pace/
CATEGORIES:Eventi,Eventi A.C.R.
END:VEVENT
BEGIN:VEVENT
DTSTART;TZID=Europe/Rome:20250124T173000
DTEND;TZID=Europe/Rome:20250124T193000
DTSTAMP:20260423T175053
CREATED:20250123T135838Z
LAST-MODIFIED:20250123T141714Z
UID:7206-1737739800-1737747000@www.acanconaosimo.it
SUMMARY:Noi siamo Pace "CAMBIARE LA ROTTA"
DESCRIPTION:
URL:https://www.acanconaosimo.it/event/noi-siamo-pace-cambiare-la-rotta/
CATEGORIES:Eventi,Eventi Adulti,Eventi Associativi,Eventi Formazione,Eventi Giovani
END:VEVENT
BEGIN:VEVENT
DTSTART;TZID=Europe/Rome:20241029T193000
DTEND;TZID=Europe/Rome:20241029T224500
DTSTAMP:20260423T175053
CREATED:20241027T102749Z
LAST-MODIFIED:20241027T102749Z
UID:7166-1730230200-1730241900@www.acanconaosimo.it
SUMMARY:FORMAZIONE A 360°
DESCRIPTION:Per iscriverti compila il form di adesione al seguente LINK\n 
URL:https://www.acanconaosimo.it/event/formazione-a-360/
LOCATION:Camerano\, Via Carlo Maratti\, 46\, Camerano\, 60021\, Italia
CATEGORIES:Eventi A.C.R.,Eventi Adulti,Eventi Associativi,Eventi Formazione,Eventi Giovani,Eventi Giovanissimi,Eventi Unitari
END:VEVENT
BEGIN:VEVENT
DTSTART;VALUE=DATE:20211219
DTEND;VALUE=DATE:20211220
DTSTAMP:20260423T175053
CREATED:20211123T230804Z
LAST-MODIFIED:20211123T230804Z
UID:6928-1639872000-1639958399@www.acanconaosimo.it
SUMMARY:"Su misura...per tutti!" per un Natale solidale con l'ACR
DESCRIPTION:
URL:https://www.acanconaosimo.it/event/su-misura-per-tutti-per-un-natale-solidale-con-lacr/
CATEGORIES:Eventi A.C.R.
END:VEVENT
BEGIN:VEVENT
DTSTART;VALUE=DATE:20211209
DTEND;VALUE=DATE:20211210
DTSTAMP:20260423T175053
CREATED:20211123T230659Z
LAST-MODIFIED:20211123T230659Z
UID:6926-1639008000-1639094399@www.acanconaosimo.it
SUMMARY:"Alzati & Testimonia" per giovani e giovanissimi
DESCRIPTION:
URL:https://www.acanconaosimo.it/event/alzati-testimonia-per-giovani-e-giovanissimi/
CATEGORIES:Eventi Giovani,Eventi Giovanissimi
END:VEVENT
BEGIN:VEVENT
DTSTART;VALUE=DATE:20211208
DTEND;VALUE=DATE:20211209
DTSTAMP:20260423T175053
CREATED:20211123T230603Z
LAST-MODIFIED:20211123T230838Z
UID:6924-1638921600-1639007999@www.acanconaosimo.it
SUMMARY:Festa dell'ADESIONE
DESCRIPTION:
URL:https://www.acanconaosimo.it/event/festa-delladesione/
CATEGORIES:Eventi Associativi,Eventi Unitari
END:VEVENT
BEGIN:VEVENT
DTSTART;VALUE=DATE:20211205
DTEND;VALUE=DATE:20211206
DTSTAMP:20260423T175053
CREATED:20211123T230416Z
LAST-MODIFIED:20211123T230908Z
UID:6920-1638662400-1638748799@www.acanconaosimo.it
SUMMARY:"Tempo di...attesa" per adulti e famiglie
DESCRIPTION:
URL:https://www.acanconaosimo.it/event/tempo-di-attesa-per-adulti-e-famiglie/
CATEGORIES:Eventi Adulti
END:VEVENT
BEGIN:VEVENT
DTSTART;VALUE=DATE:20211201
DTEND;VALUE=DATE:20211208
DTSTAMP:20260423T175053
CREATED:20211123T225909Z
LAST-MODIFIED:20211123T230934Z
UID:6918-1638316800-1638921599@www.acanconaosimo.it
SUMMARY:La settimana dell'ADESIONE
DESCRIPTION:
URL:https://www.acanconaosimo.it/event/la-settimana-delladesione/
CATEGORIES:Eventi Associativi,Eventi Unitari
END:VEVENT
BEGIN:VEVENT
DTSTART;TZID=Europe/Rome:20210618T211500
DTEND;TZID=Europe/Rome:20210618T223000
DTSTAMP:20260423T175053
CREATED:20210606T154008Z
LAST-MODIFIED:20210606T154008Z
UID:6908-1624050900-1624055400@www.acanconaosimo.it
SUMMARY:Messa per educatori ACR e ACG
DESCRIPTION:#𝔼𝔻𝕌ℂ𝔸𝕋𝕆ℝ𝕀 \nFinalmente di nuovo insieme!! 😃\nÈ giunto il momento di rivederci\, chiudere quest’anno un pò particolare e dare inizio al tempo estivo e alle sue iniziative con i nostri ragazzi e giovanissimi! \nCi vediamo tutti insieme:\n📆 venerdì 18 Giugno\n⏰ ore 21\,15\n📍presso la Parrocchia Sacra Famiglia\, OSIMO \nPassa parola a tutti gli educatori della tua parrocchia 😉
URL:https://www.acanconaosimo.it/event/messa-per-educatori-acr-e-acg/
LOCATION:Parrocchia Sacra Famiglia Osimo\, Via Alcide de Gasperi\, 83\, Osimo\, 60027\, Italia
CATEGORIES:Eventi A.C.R.,Eventi Associativi,Eventi Formazione,Eventi Giovani,Eventi Giovanissimi
END:VEVENT
BEGIN:VEVENT
DTSTART;TZID=Europe/Rome:20200209T090000
DTEND;TZID=Europe/Rome:20200209T170000
DTSTAMP:20260423T175053
CREATED:20200126T222019Z
LAST-MODIFIED:20200126T222454Z
UID:6143-1581238800-1581267600@www.acanconaosimo.it
SUMMARY:XVII Assemblea Diocesana Elettiva 2020
DESCRIPTION:ASSEMBLEA DIOCESANA ELETTIVA 9 FEBBRAIO 2020!
URL:https://www.acanconaosimo.it/event/xvii-assemblea-diocesana-elettiva-2020/
LOCATION:Pontificio Seminario\, Strada di Monte d'Ago\, 87\, Ancona\, Italia
CATEGORIES:Eventi Associativi
ATTACH;FMTTYPE=image/jpeg:https://www.acanconaosimo.it/wordpress/wp-content/uploads/2020/01/Programma-XVII-Assemblea-Diocesana-Elettiva-2020.jpg
END:VEVENT
BEGIN:VEVENT
DTSTART;TZID=Europe/Rome:20200209T090000
DTEND;TZID=Europe/Rome:20200209T160000
DTSTAMP:20260423T175053
CREATED:20200125T150130Z
LAST-MODIFIED:20200220T234920Z
UID:6129-1581238800-1581264000@www.acanconaosimo.it
SUMMARY:XVII ASSEMBLEA DIOCESANA ELETTIVA
DESCRIPTION:XVII ASSEMBLEA DIOCESANA ELETTIVA
URL:https://www.acanconaosimo.it/event/20200209-assemblea-diocesana-elettiva/
LOCATION:Pontificio seminario\, Via Monte d'Ago\, 87\, Ancona\, Italia
CATEGORIES:Eventi A.C.R.,Eventi Adulti,Eventi Associativi,Eventi Giovani,Eventi Giovanissimi,Eventi Unitari
END:VEVENT
END:VCALENDAR