BEGIN:VCALENDAR
VERSION:2.0
PRODID:-//Azione Cattolica Ancona Osimo - ECPv6.15.10//NONSGML v1.0//EN
CALSCALE:GREGORIAN
METHOD:PUBLISH
X-ORIGINAL-URL:https://www.acanconaosimo.it
X-WR-CALDESC:Eventi per Azione Cattolica Ancona Osimo
REFRESH-INTERVAL;VALUE=DURATION:PT1H
X-Robots-Tag:noindex
X-PUBLISHED-TTL:PT1H
BEGIN:VTIMEZONE
TZID:Europe/Rome
BEGIN:DAYLIGHT
TZOFFSETFROM:+0100
TZOFFSETTO:+0200
TZNAME:CEST
DTSTART:20240331T010000
END:DAYLIGHT
BEGIN:STANDARD
TZOFFSETFROM:+0200
TZOFFSETTO:+0100
TZNAME:CET
DTSTART:20241027T010000
END:STANDARD
BEGIN:DAYLIGHT
TZOFFSETFROM:+0100
TZOFFSETTO:+0200
TZNAME:CEST
DTSTART:20250330T010000
END:DAYLIGHT
BEGIN:STANDARD
TZOFFSETFROM:+0200
TZOFFSETTO:+0100
TZNAME:CET
DTSTART:20251026T010000
END:STANDARD
BEGIN:DAYLIGHT
TZOFFSETFROM:+0100
TZOFFSETTO:+0200
TZNAME:CEST
DTSTART:20260329T010000
END:DAYLIGHT
BEGIN:STANDARD
TZOFFSETFROM:+0200
TZOFFSETTO:+0100
TZNAME:CET
DTSTART:20261025T010000
END:STANDARD
END:VTIMEZONE
BEGIN:VEVENT
DTSTART;TZID=Europe/Rome:20251012T150000
DTEND;TZID=Europe/Rome:20251012T200000
DTSTAMP:20260423T162947
CREATED:20250927T135609Z
LAST-MODIFIED:20250927T140909Z
UID:7259-1760281200-1760299200@www.acanconaosimo.it
SUMMARY:GIUBILEO dei MOVIMENTI e delle ASSOCIAZIONI
DESCRIPTION:
URL:https://www.acanconaosimo.it/event/giubileo-dei-movimenti-e-delle-associazioni/
LOCATION:Ancona\, Italy
CATEGORIES:Eventi
END:VEVENT
BEGIN:VEVENT
DTSTART;VALUE=DATE:20250406
DTEND;VALUE=DATE:20250407
DTSTAMP:20260423T162947
CREATED:20250316T145050Z
LAST-MODIFIED:20250316T150716Z
UID:7240-1743897600-1743983999@www.acanconaosimo.it
SUMMARY:Giornata di spiritualità
DESCRIPTION:Vi invitiamo a segnalare la vostra presenza entro il 3 aprile scrivendoci un’email ad ACANCONAOSIMO@GMAIL.COM o compilando il seguente LINK https://forms.gle/5ovP5ELaXCsex2ad9 
URL:https://www.acanconaosimo.it/event/giornata-di-spiritualita/
LOCATION:Abbadia di Fiastra
CATEGORIES:Eventi,Eventi Unitari
END:VEVENT
BEGIN:VEVENT
DTSTART;TZID=Europe/Rome:20250209T180000
DTEND;TZID=Europe/Rome:20250209T193000
DTSTAMP:20260423T162947
CREATED:20250202T101906Z
LAST-MODIFIED:20250202T102709Z
UID:7233-1739124000-1739129400@www.acanconaosimo.it
SUMMARY:A TU PER TU CON...
DESCRIPTION:L’equipe giovani della Azione Cattolica Ancona-Osimo e la Pastorale Giovanile sono felici di presentare ed invitarvi ai nuovi appuntamenti di “A TU PER TU CON…”\n \nSaranno due incontri su 𝗮𝗳𝗳𝗲𝘁𝘁𝗶𝘃𝗶𝘁𝗮̀\, 𝗰𝗼𝗿𝗽𝗼𝗿𝗲𝗶𝘁𝗮̀ 𝗲 𝗿𝗲𝗹𝗮𝘇𝗶𝗼𝗻𝗶\, dedicati a ragazzi e ragazze dal 1º al 4º superiore.\nIl primo appuntamento:\n⏩ 9 FEBBRAIO: “𝘓𝘦𝘨𝘢𝘮𝘪” con lo psicologo Lorenzo Lampacrescia \n\n➡️ Vi invitiamo a registrarvi al seguente LINK entro il 6/2.
URL:https://www.acanconaosimo.it/event/7233/
CATEGORIES:Eventi,Eventi Giovanissimi
END:VEVENT
BEGIN:VEVENT
DTSTART;TZID=Europe/Rome:20250131T193000
DTEND;TZID=Europe/Rome:20250131T223000
DTSTAMP:20260423T162947
CREATED:20250123T143200Z
LAST-MODIFIED:20250123T143200Z
UID:7222-1738351800-1738362600@www.acanconaosimo.it
SUMMARY:LABORATORI DI SOCIO-POLITICA
DESCRIPTION:
URL:https://www.acanconaosimo.it/event/laboratori-di-socio-politica/
CATEGORIES:Eventi
END:VEVENT
BEGIN:VEVENT
DTSTART;TZID=Europe/Rome:20250125T161500
DTEND;TZID=Europe/Rome:20250125T193000
DTSTAMP:20260423T162947
CREATED:20250123T142056Z
LAST-MODIFIED:20250123T142056Z
UID:7217-1737821700-1737833400@www.acanconaosimo.it
SUMMARY:CIAK\, AZIONE ... DI PACE!
DESCRIPTION:
URL:https://www.acanconaosimo.it/event/ciak-azione-di-pace/
CATEGORIES:Eventi,Eventi A.C.R.
END:VEVENT
BEGIN:VEVENT
DTSTART;TZID=Europe/Rome:20250124T173000
DTEND;TZID=Europe/Rome:20250124T193000
DTSTAMP:20260423T162947
CREATED:20250123T135838Z
LAST-MODIFIED:20250123T141714Z
UID:7206-1737739800-1737747000@www.acanconaosimo.it
SUMMARY:Noi siamo Pace "CAMBIARE LA ROTTA"
DESCRIPTION:
URL:https://www.acanconaosimo.it/event/noi-siamo-pace-cambiare-la-rotta/
CATEGORIES:Eventi,Eventi Adulti,Eventi Associativi,Eventi Formazione,Eventi Giovani
END:VEVENT
END:VCALENDAR